BEGIN:VCALENDAR
VERSION:2.0
PRODID:-//CIAO - ECPv6.15.20//NONSGML v1.0//EN
CALSCALE:GREGORIAN
METHOD:PUBLISH
X-WR-CALNAME:CIAO
X-ORIGINAL-URL:https://ciaoforegon.org
X-WR-CALDESC:Events for CIAO
REFRESH-INTERVAL;VALUE=DURATION:PT1H
X-Robots-Tag:noindex
X-PUBLISHED-TTL:PT1H
BEGIN:VTIMEZONE
TZID:America/Los_Angeles
BEGIN:DAYLIGHT
TZOFFSETFROM:-0800
TZOFFSETTO:-0700
TZNAME:PDT
DTSTART:20250309T100000
END:DAYLIGHT
BEGIN:STANDARD
TZOFFSETFROM:-0700
TZOFFSETTO:-0800
TZNAME:PST
DTSTART:20251102T090000
END:STANDARD
BEGIN:DAYLIGHT
TZOFFSETFROM:-0800
TZOFFSETTO:-0700
TZNAME:PDT
DTSTART:20260308T100000
END:DAYLIGHT
BEGIN:STANDARD
TZOFFSETFROM:-0700
TZOFFSETTO:-0800
TZNAME:PST
DTSTART:20261101T090000
END:STANDARD
BEGIN:DAYLIGHT
TZOFFSETFROM:-0800
TZOFFSETTO:-0700
TZNAME:PDT
DTSTART:20270314T100000
END:DAYLIGHT
BEGIN:STANDARD
TZOFFSETFROM:-0700
TZOFFSETTO:-0800
TZNAME:PST
DTSTART:20271107T090000
END:STANDARD
END:VTIMEZONE
BEGIN:VEVENT
DTSTART;VALUE=DATE:20261109
DTEND;VALUE=DATE:20261110
DTSTAMP:20260420T223834
CREATED:20260406T223710Z
LAST-MODIFIED:20260407T003430Z
UID:10000109-1794182400-1794268799@ciaoforegon.org
SUMMARY:CIAO Membership Meeting
DESCRIPTION:  \nIt’s the CIAO Membership Meeting\nThis meeting is held exclusively for CIAO members and their invited guests (individual registration is required).  \nDon’t miss the quarterly membership meeting for Oregon cannabis professionals. It’s where operators\, workers\, advocates\, and leaders connect\, build community\, and shape our industry’s future together. Every meeting can be joined virtually\, or in person. The Zoom link and the physical location will be sent upon event registration. (pro tip: parking garage across the street) \n\n\n\n\nNot a member? Not a problem—sign up now or join at the door. Come check us out!  \n\n\n\n\n\n— — — — — — — — — — — — — — — — — — — \n\nAgenda: \n6:00p – Doors Open \n6:30p – Meeting Convenes \n7:30p – Closing Remarks \n8:30p – Doors Close
URL:https://ciaoforegon.org/event/ciao-membership-meeting/
CATEGORIES:CIAO,Insiders Meeting,Meeting
ORGANIZER;CN="CIAO":MAILTO:info@ciaoforegon.org
END:VEVENT
END:VCALENDAR