BEGIN:VCALENDAR
VERSION:2.0
PRODID:-//CIAO - ECPv6.15.20//NONSGML v1.0//EN
CALSCALE:GREGORIAN
METHOD:PUBLISH
X-ORIGINAL-URL:https://ciaoforegon.org
X-WR-CALDESC:Events for CIAO
REFRESH-INTERVAL;VALUE=DURATION:PT1H
X-Robots-Tag:noindex
X-PUBLISHED-TTL:PT1H
BEGIN:VTIMEZONE
TZID:America/Los_Angeles
BEGIN:DAYLIGHT
TZOFFSETFROM:-0800
TZOFFSETTO:-0700
TZNAME:PDT
DTSTART:20250309T100000
END:DAYLIGHT
BEGIN:STANDARD
TZOFFSETFROM:-0700
TZOFFSETTO:-0800
TZNAME:PST
DTSTART:20251102T090000
END:STANDARD
BEGIN:DAYLIGHT
TZOFFSETFROM:-0800
TZOFFSETTO:-0700
TZNAME:PDT
DTSTART:20260308T100000
END:DAYLIGHT
BEGIN:STANDARD
TZOFFSETFROM:-0700
TZOFFSETTO:-0800
TZNAME:PST
DTSTART:20261101T090000
END:STANDARD
BEGIN:DAYLIGHT
TZOFFSETFROM:-0800
TZOFFSETTO:-0700
TZNAME:PDT
DTSTART:20270314T100000
END:DAYLIGHT
BEGIN:STANDARD
TZOFFSETFROM:-0700
TZOFFSETTO:-0800
TZNAME:PST
DTSTART:20271107T090000
END:STANDARD
END:VTIMEZONE
BEGIN:VEVENT
DTSTART;TZID=America/Los_Angeles:20260413T180000
DTEND;TZID=America/Los_Angeles:20260413T210000
DTSTAMP:20260421T000816
CREATED:20260406T163058Z
LAST-MODIFIED:20260409T182936Z
UID:10000086-1776103200-1776114000@ciaoforegon.org
SUMMARY:CIAO Membership Meeting
DESCRIPTION:  \nIt’s the CIAO Membership Meeting\nThis meeting is held exclusively for CIAO members and their invited guests (individual registration is required).  \nDon’t miss the quarterly membership meeting for Oregon cannabis professionals. It’s where operators\, workers\, advocates\, and leaders connect\, build community\, and shape our industry’s future together. Every meeting can be joined virtually\, or in person. The Zoom link and the physical location will be sent separately\, after event registration. (pro tip: parking garage across the street) \n\n\n\n\nNot a member? Not a problem—sign up now or join at the door. Come check us out!  \n\n\n\n\n\n— — — — — — — — — — — — — — — — — — — \n\nAgenda: \n6:00p – Doors Open \n6:30p – Meeting Convenes \n7:30p – Closing Remarks \n8:30p – Doors Close \nContent: \nSpecial Presentation: Passage of Ryan’s Law\, allowing cannabis in hospice (HB 4142) \nRead Out: CIAO Interactions with Important People & Outcomes \nUpdate your Calendars: Events you Won’t Want to Miss \nNew Member Spotlight & Director’s Closing Remarks \n— — — — — — — — — — — — — — — — — — — \n\nFRIENDLY DISCLAIMERS\n\nDates and topics may shift to accommodate guest speakers or urgent policy developments. \nAfter one complimentary meeting\, non-members may attend only after joining CIAO or as a member’s invited guest.\nQuestions or special requests? Email us at info@ciaoforegon.org. 
URL:https://ciaoforegon.org/event/ciao-membership-meeting-april-2026/
LOCATION:Broadway Cannabis at 219 SW Broadway\, Portland 97205\, 219 SW Braodway Ave.\, Portland\, 97201\, United States
CATEGORIES:CIAO,Insiders Meeting,Meeting
ORGANIZER;CN="CIAO":MAILTO:info@ciaoforegon.org
END:VEVENT
END:VCALENDAR